BEGIN:VCALENDAR
VERSION:2.0
PRODID:-//humanesocietycc.org//NONSGML kigkonsult.se iCalcreator 2.30.10//
CALSCALE:GREGORIAN
METHOD:PUBLISH
UID:d3ca8ff8-cd9e-4177-85fa-295803cd75cd
X-WR-CALDESC:
X-WR-RELCALID:0ea5fdb742a9ca5d4301c81c614b24a6
X-WR-TIMEZONE:America/New_York
BEGIN:VTIMEZONE
TZID:America/New_York
BEGIN:STANDARD
TZNAME:EST
DTSTART:20281105T020000
TZOFFSETFROM:-0400
TZOFFSETTO:-0500
RDATE:20291104T020000
END:STANDARD
BEGIN:DAYLIGHT
TZNAME:EDT
DTSTART:20280312T020000
TZOFFSETFROM:-0500
TZOFFSETTO:-0400
RDATE:20290311T020000
RDATE:20300310T020000
END:DAYLIGHT
END:VTIMEZONE
BEGIN:VEVENT
UID:4ed42256-ad08-4fbd-a925-c21a606f8b67
DTSTAMP:20260423T013222Z
DESCRIPTION:
DTSTART;TZID=America/New_York:20290115T000000
DTEND;TZID=America/New_York:20290115T235900
LOCATION:
SUMMARY:Shelter Closed
END:VEVENT
END:VCALENDAR
