BEGIN:VCALENDAR
VERSION:2.0
PRODID:-//humanesocietycc.org//NONSGML kigkonsult.se iCalcreator 2.30.10//
CALSCALE:GREGORIAN
METHOD:PUBLISH
UID:7d77f607-fda3-4dc0-b9d8-0468e51ec464
X-WR-CALDESC:
X-WR-RELCALID:fa273bfdc20a19a54705245ee9daa34a
X-WR-TIMEZONE:America/New_York
BEGIN:VTIMEZONE
TZID:America/New_York
BEGIN:STANDARD
TZNAME:EST
DTSTART:20281105T020000
TZOFFSETFROM:-0400
TZOFFSETTO:-0500
RDATE:20291104T020000
END:STANDARD
BEGIN:DAYLIGHT
TZNAME:EDT
DTSTART:20280312T020000
TZOFFSETFROM:-0500
TZOFFSETTO:-0400
RDATE:20290311T020000
RDATE:20300310T020000
END:DAYLIGHT
END:VTIMEZONE
BEGIN:VEVENT
UID:cbbeacf6-723d-4a8c-9e99-750327929679
DTSTAMP:20260423T014945Z
DESCRIPTION:
DTSTART;TZID=America/New_York:20290122T000000
DTEND;TZID=America/New_York:20290122T235900
LOCATION:
SUMMARY:Shelter Closed
END:VEVENT
END:VCALENDAR
