BEGIN:VCALENDAR
VERSION:2.0
PRODID:-//humanesocietycc.org//NONSGML kigkonsult.se iCalcreator 2.30.10//
CALSCALE:GREGORIAN
METHOD:PUBLISH
UID:437d168b-7265-452f-a325-9227df9dac4f
X-WR-CALDESC:
X-WR-RELCALID:c23f8c9a8ccca8a051dcf4470f7b801e
X-WR-TIMEZONE:America/New_York
BEGIN:VTIMEZONE
TZID:America/New_York
BEGIN:STANDARD
TZNAME:EST
DTSTART:20281105T020000
TZOFFSETFROM:-0400
TZOFFSETTO:-0500
RDATE:20291104T020000
END:STANDARD
BEGIN:DAYLIGHT
TZNAME:EDT
DTSTART:20280312T020000
TZOFFSETFROM:-0500
TZOFFSETTO:-0400
RDATE:20290311T020000
RDATE:20300310T020000
END:DAYLIGHT
END:VTIMEZONE
BEGIN:VEVENT
UID:269b66c7-97ff-42f7-98bc-03d5af76de42
DTSTAMP:20260423T012625Z
DESCRIPTION:
DTSTART;TZID=America/New_York:20290129T000000
DTEND;TZID=America/New_York:20290129T235900
LOCATION:
SUMMARY:Shelter Closed
END:VEVENT
END:VCALENDAR
