BEGIN:VCALENDAR
VERSION:2.0
PRODID:-//humanesocietycc.org//NONSGML kigkonsult.se iCalcreator 2.30.10//
CALSCALE:GREGORIAN
METHOD:PUBLISH
UID:caeca908-a7be-4994-b430-c6610d968646
X-WR-CALDESC:
X-WR-RELCALID:94736cd1bf457c663dd2c2fc9ed58cc8
X-WR-TIMEZONE:America/New_York
BEGIN:VTIMEZONE
TZID:America/New_York
BEGIN:STANDARD
TZNAME:EST
DTSTART:20281105T020000
TZOFFSETFROM:-0400
TZOFFSETTO:-0500
RDATE:20291104T020000
END:STANDARD
BEGIN:DAYLIGHT
TZNAME:EDT
DTSTART:20280312T020000
TZOFFSETFROM:-0500
TZOFFSETTO:-0400
RDATE:20290311T020000
RDATE:20300310T020000
END:DAYLIGHT
END:VTIMEZONE
BEGIN:VEVENT
UID:9e976dc5-8834-4d20-9363-e973b84cff7b
DTSTAMP:20260423T161907Z
DESCRIPTION:
DTSTART;TZID=America/New_York:20290305T000000
DTEND;TZID=America/New_York:20290305T235900
LOCATION:
SUMMARY:Shelter Closed
END:VEVENT
END:VCALENDAR
