BEGIN:VCALENDAR
VERSION:2.0
PRODID:-//humanesocietycc.org//NONSGML kigkonsult.se iCalcreator 2.30.10//
CALSCALE:GREGORIAN
METHOD:PUBLISH
UID:4261543b-18b5-484a-906a-e1a1c706a20b
X-WR-CALDESC:
X-WR-RELCALID:3880e138e22e815acd8582cc86cd872a
X-WR-TIMEZONE:America/New_York
BEGIN:VTIMEZONE
TZID:America/New_York
BEGIN:STANDARD
TZNAME:EST
DTSTART:20281105T020000
TZOFFSETFROM:-0400
TZOFFSETTO:-0500
RDATE:20291104T020000
END:STANDARD
BEGIN:DAYLIGHT
TZNAME:EDT
DTSTART:20280312T020000
TZOFFSETFROM:-0500
TZOFFSETTO:-0400
RDATE:20290311T020000
RDATE:20300310T020000
END:DAYLIGHT
END:VTIMEZONE
BEGIN:VEVENT
UID:68a8c152-1282-403e-8199-b2071c7cbbe8
DTSTAMP:20260423T162610Z
DESCRIPTION:
DTSTART;TZID=America/New_York:20290312T000000
DTEND;TZID=America/New_York:20290312T235900
LOCATION:
SUMMARY:Shelter Closed
END:VEVENT
END:VCALENDAR
