BEGIN:VCALENDAR
VERSION:2.0
PRODID:-//humanesocietycc.org//NONSGML kigkonsult.se iCalcreator 2.30.10//
CALSCALE:GREGORIAN
METHOD:PUBLISH
UID:29aa02b7-7f9b-4ca4-bb23-715ffa9dd742
X-WR-CALDESC:
X-WR-RELCALID:61c0c9ad0a46493de5d25f58a8c83368
X-WR-TIMEZONE:America/New_York
BEGIN:VTIMEZONE
TZID:America/New_York
BEGIN:STANDARD
TZNAME:EST
DTSTART:20281105T020000
TZOFFSETFROM:-0400
TZOFFSETTO:-0500
RDATE:20291104T020000
RDATE:20301103T020000
END:STANDARD
BEGIN:DAYLIGHT
TZNAME:EDT
DTSTART:20290311T020000
TZOFFSETFROM:-0500
TZOFFSETTO:-0400
RDATE:20300310T020000
END:DAYLIGHT
END:VTIMEZONE
BEGIN:VEVENT
UID:31ebb14f-c681-43ea-b74a-1fc5a07cfa08
DTSTAMP:20260425T112856Z
DESCRIPTION:
DTSTART;TZID=America/New_York:20290507T000000
DTEND;TZID=America/New_York:20290507T235900
LOCATION:
SUMMARY:Shelter Closed
END:VEVENT
END:VCALENDAR
