BEGIN:VCALENDAR
VERSION:2.0
PRODID:-//humanesocietycc.org//NONSGML kigkonsult.se iCalcreator 2.30.10//
CALSCALE:GREGORIAN
METHOD:PUBLISH
UID:30f8a02f-1ec8-496f-9da7-c29e564a894d
X-WR-CALDESC:
X-WR-RELCALID:08499103fc7d2bcbab020bcc814c5922
X-WR-TIMEZONE:America/New_York
BEGIN:VTIMEZONE
TZID:America/New_York
BEGIN:STANDARD
TZNAME:EST
DTSTART:20281105T020000
TZOFFSETFROM:-0400
TZOFFSETTO:-0500
RDATE:20291104T020000
RDATE:20301103T020000
END:STANDARD
BEGIN:DAYLIGHT
TZNAME:EDT
DTSTART:20290311T020000
TZOFFSETFROM:-0500
TZOFFSETTO:-0400
RDATE:20300310T020000
END:DAYLIGHT
END:VTIMEZONE
BEGIN:VEVENT
UID:c9701dc6-bdc0-42e8-a120-bb44408f526e
DTSTAMP:20260425T114438Z
DESCRIPTION:
DTSTART;TZID=America/New_York:20290514T000000
DTEND;TZID=America/New_York:20290514T235900
LOCATION:
SUMMARY:Shelter Closed
END:VEVENT
END:VCALENDAR
