BEGIN:VCALENDAR
VERSION:2.0
PRODID:-//humanesocietycc.org//NONSGML kigkonsult.se iCalcreator 2.30.10//
CALSCALE:GREGORIAN
METHOD:PUBLISH
UID:7759caf0-1d6b-486a-932a-b01833a1ef2a
X-WR-CALDESC:
X-WR-RELCALID:9e7ad41e3f6ba1777477e96b1e185928
X-WR-TIMEZONE:America/New_York
BEGIN:VTIMEZONE
TZID:America/New_York
BEGIN:STANDARD
TZNAME:EST
DTSTART:20281105T020000
TZOFFSETFROM:-0400
TZOFFSETTO:-0500
RDATE:20291104T020000
RDATE:20301103T020000
END:STANDARD
BEGIN:DAYLIGHT
TZNAME:EDT
DTSTART:20290311T020000
TZOFFSETFROM:-0500
TZOFFSETTO:-0400
RDATE:20300310T020000
END:DAYLIGHT
END:VTIMEZONE
BEGIN:VEVENT
UID:42158379-ce99-4394-9bec-f60d3fbd9c5b
DTSTAMP:20260425T112214Z
DESCRIPTION:
DTSTART;TZID=America/New_York:20290528T000000
DTEND;TZID=America/New_York:20290528T235900
LOCATION:
SUMMARY:Shelter Closed
END:VEVENT
END:VCALENDAR
