BEGIN:VCALENDAR
VERSION:2.0
PRODID:-//humanesocietycc.org//NONSGML kigkonsult.se iCalcreator 2.30.10//
CALSCALE:GREGORIAN
METHOD:PUBLISH
UID:f6884adc-ca83-46ed-a5e8-56fb8d07ebdc
X-WR-CALDESC:
X-WR-RELCALID:dc5b4a686ec1890c482b9e0ff3beae82
X-WR-TIMEZONE:America/New_York
BEGIN:VTIMEZONE
TZID:America/New_York
BEGIN:STANDARD
TZNAME:EST
DTSTART:20281105T020000
TZOFFSETFROM:-0400
TZOFFSETTO:-0500
RDATE:20291104T020000
RDATE:20301103T020000
END:STANDARD
BEGIN:DAYLIGHT
TZNAME:EDT
DTSTART:20290311T020000
TZOFFSETFROM:-0500
TZOFFSETTO:-0400
RDATE:20300310T020000
END:DAYLIGHT
END:VTIMEZONE
BEGIN:VEVENT
UID:086cee25-d2e2-4c2a-9919-e0734ff0f3d7
DTSTAMP:20260425T125048Z
DESCRIPTION:
DTSTART;TZID=America/New_York:20290611T000000
DTEND;TZID=America/New_York:20290611T235900
LOCATION:
SUMMARY:Shelter Closed
END:VEVENT
END:VCALENDAR
