BEGIN:VCALENDAR
VERSION:2.0
PRODID:-//humanesocietycc.org//NONSGML kigkonsult.se iCalcreator 2.30.10//
CALSCALE:GREGORIAN
METHOD:PUBLISH
UID:3e704f9d-6eaa-4b06-aea5-8225dba8ceb7
X-WR-CALDESC:
X-WR-RELCALID:9afd0e2972f41724d663402815f54fc6
X-WR-TIMEZONE:America/New_York
BEGIN:VTIMEZONE
TZID:America/New_York
BEGIN:STANDARD
TZNAME:EST
DTSTART:20281105T020000
TZOFFSETFROM:-0400
TZOFFSETTO:-0500
RDATE:20291104T020000
RDATE:20301103T020000
END:STANDARD
BEGIN:DAYLIGHT
TZNAME:EDT
DTSTART:20290311T020000
TZOFFSETFROM:-0500
TZOFFSETTO:-0400
RDATE:20300310T020000
END:DAYLIGHT
END:VTIMEZONE
BEGIN:VEVENT
UID:6158a3d6-b1e2-4dfa-8b71-6f5cbedee4d4
DTSTAMP:20260425T130957Z
DESCRIPTION:
DTSTART;TZID=America/New_York:20290618T000000
DTEND;TZID=America/New_York:20290618T235900
LOCATION:
SUMMARY:Shelter Closed
END:VEVENT
END:VCALENDAR
